View In:
ArcGIS JavaScript
ArcGIS Online Map Viewer
ArcGIS Earth
Service Description: Laos/Orthomosaic_Nam_Tien_2023
Name: Laos/Orthomosaic_Nam_Tien_2023
Description:
Single Fused Map Cache: false
Extent:
XMin: 101.64850959127068
YMin: 19.227497382291478
XMax: 101.66682722615869
YMax: 19.24734243901148
Spatial Reference: 0
(0)
LatestVCSWkid(0)
Initial Extent:
XMin: 101.64850959127068
YMin: 19.227497382291478
XMax: 101.66682722615869
YMax: 19.24734243901148
Spatial Reference: 0
(0)
LatestVCSWkid(0)
Full Extent:
XMin: 101.64850959127068
YMin: 19.227497382291478
XMax: 101.66682722615869
YMax: 19.24734243901148
Spatial Reference: 0
(0)
LatestVCSWkid(0)
Pixel Size X: 4.761290000001755E-7
Pixel Size Y: 4.7612900000003006E-7
Band Count: 3
Pixel Type: U8
RasterFunction Infos: {"rasterFunctionInfos": [{
"name": "None",
"description": "",
"help": ""
}]}
Mensuration Capabilities: Basic
Inspection Capabilities:
Has Histograms: true
Has Colormap: false
Has Multi Dimensions : false
Rendering Rule:
Min Scale: 0
Max Scale: 0
Copyright Text:
Service Data Type: esriImageServiceDataTypeRGB
Min Values: 0, 0, 0
Max Values: 255, 255, 255
Mean Values: 154.78206011899402, 162.31860567237732, 133.8644267379693
Standard Deviation Values: 54.79608078199782, 48.52979434091746, 51.99084995405625
Object ID Field:
Fields:
None
Default Mosaic Method: Center
Allowed Mosaic Methods:
SortField:
SortValue: null
Mosaic Operator: First
Default Compression Quality: 75
Default Resampling Method: Bilinear
Max Record Count: null
Max Image Height: 4100
Max Image Width: 15000
Max Download Image Count: null
Max Mosaic Image Count: null
Allow Raster Function: true
Allow Copy: true
Allow Analysis: true
Allow Compute TiePoints: false
Supports Statistics: false
Supports Advanced Queries: false
Use StandardizedQueries: true
Raster Type Infos:
Name: Raster Dataset
Description: Supports all ArcGIS Raster Datasets
Help:
Has Raster Attribute Table: false
Edit Fields Info: null
Ownership Based AccessControl For Rasters: null
Child Resources:
Info
Histograms
Statistics
Key Properties
Legend
Raster Function Infos
Supported Operations:
Export Image
Identify
Measure
Compute Histograms
Compute Statistics Histograms
Get Samples
Compute Class Statistics
Query Boundary
Compute Pixel Location
Compute Angles
Validate
Project